BEGIN:VCALENDAR
VERSION:2.0
PRODID:-//Silver Spectrum - ECPv6.15.17//NONSGML v1.0//EN
CALSCALE:GREGORIAN
METHOD:PUBLISH
X-WR-CALNAME:Silver Spectrum
X-ORIGINAL-URL:http://www.silverspectrum.org
X-WR-CALDESC:Events for Silver Spectrum
REFRESH-INTERVAL;VALUE=DURATION:PT1H
X-Robots-Tag:noindex
X-PUBLISHED-TTL:PT1H
BEGIN:VTIMEZONE
TZID:Europe/London
BEGIN:DAYLIGHT
TZOFFSETFROM:+0000
TZOFFSETTO:+0100
TZNAME:BST
DTSTART:20200329T010000
END:DAYLIGHT
BEGIN:STANDARD
TZOFFSETFROM:+0100
TZOFFSETTO:+0000
TZNAME:GMT
DTSTART:20201025T010000
END:STANDARD
BEGIN:DAYLIGHT
TZOFFSETFROM:+0000
TZOFFSETTO:+0100
TZNAME:BST
DTSTART:20210328T010000
END:DAYLIGHT
BEGIN:STANDARD
TZOFFSETFROM:+0100
TZOFFSETTO:+0000
TZNAME:GMT
DTSTART:20211031T010000
END:STANDARD
BEGIN:DAYLIGHT
TZOFFSETFROM:+0000
TZOFFSETTO:+0100
TZNAME:BST
DTSTART:20220327T010000
END:DAYLIGHT
BEGIN:STANDARD
TZOFFSETFROM:+0100
TZOFFSETTO:+0000
TZNAME:GMT
DTSTART:20221030T010000
END:STANDARD
END:VTIMEZONE
BEGIN:VEVENT
DTSTART;TZID=Europe/London:20211128T080000
DTEND;TZID=Europe/London:20211128T170000
DTSTAMP:20260419T205011
CREATED:20220417T170646Z
LAST-MODIFIED:20230107T231109Z
UID:628-1638086400-1638118800@www.silverspectrum.org
SUMMARY:NCBF Regional Heats 2021
DESCRIPTION:As our first performance since covid\, we will be playing at the regional heats for the National Concert Band Festival in Nottingham. \n\n\n\nBarrie Gott – Light WalkKenneth Hesketh – Danceries
URL:http://www.silverspectrum.org/event/ncbf-regional-heats-2021/
CATEGORIES:Concerts,Public
END:VEVENT
END:VCALENDAR