BEGIN:VCALENDAR
VERSION:2.0
PRODID:-//Silver Spectrum - ECPv6.15.17//NONSGML v1.0//EN
CALSCALE:GREGORIAN
METHOD:PUBLISH
X-WR-CALNAME:Silver Spectrum
X-ORIGINAL-URL:http://www.silverspectrum.org
X-WR-CALDESC:Events for Silver Spectrum
REFRESH-INTERVAL;VALUE=DURATION:PT1H
X-Robots-Tag:noindex
X-PUBLISHED-TTL:PT1H
BEGIN:VTIMEZONE
TZID:Europe/London
BEGIN:DAYLIGHT
TZOFFSETFROM:+0000
TZOFFSETTO:+0100
TZNAME:BST
DTSTART:20220327T010000
END:DAYLIGHT
BEGIN:STANDARD
TZOFFSETFROM:+0100
TZOFFSETTO:+0000
TZNAME:GMT
DTSTART:20221030T010000
END:STANDARD
BEGIN:DAYLIGHT
TZOFFSETFROM:+0000
TZOFFSETTO:+0100
TZNAME:BST
DTSTART:20230326T010000
END:DAYLIGHT
BEGIN:STANDARD
TZOFFSETFROM:+0100
TZOFFSETTO:+0000
TZNAME:GMT
DTSTART:20231029T010000
END:STANDARD
BEGIN:DAYLIGHT
TZOFFSETFROM:+0000
TZOFFSETTO:+0100
TZNAME:BST
DTSTART:20240331T010000
END:DAYLIGHT
BEGIN:STANDARD
TZOFFSETFROM:+0100
TZOFFSETTO:+0000
TZNAME:GMT
DTSTART:20241027T010000
END:STANDARD
BEGIN:DAYLIGHT
TZOFFSETFROM:+0000
TZOFFSETTO:+0100
TZNAME:BST
DTSTART:20250330T010000
END:DAYLIGHT
BEGIN:STANDARD
TZOFFSETFROM:+0100
TZOFFSETTO:+0000
TZNAME:GMT
DTSTART:20251026T010000
END:STANDARD
BEGIN:DAYLIGHT
TZOFFSETFROM:+0000
TZOFFSETTO:+0100
TZNAME:BST
DTSTART:20260329T010000
END:DAYLIGHT
BEGIN:STANDARD
TZOFFSETFROM:+0100
TZOFFSETTO:+0000
TZNAME:GMT
DTSTART:20261025T010000
END:STANDARD
BEGIN:DAYLIGHT
TZOFFSETFROM:+0000
TZOFFSETTO:+0100
TZNAME:BST
DTSTART:20270328T010000
END:DAYLIGHT
BEGIN:STANDARD
TZOFFSETFROM:+0100
TZOFFSETTO:+0000
TZNAME:GMT
DTSTART:20271031T010000
END:STANDARD
END:VTIMEZONE
BEGIN:VEVENT
DTSTART;TZID=Europe/London:20231126T174500
DTEND;TZID=Europe/London:20231126T181000
DTSTAMP:20260419T173553
CREATED:20230627T125638Z
LAST-MODIFIED:20231115T144456Z
UID:942-1701020700-1701022200@www.silverspectrum.org
SUMMARY:National Concert Band Festival (Regional Heats)
DESCRIPTION:We are entering the NCBF again\, but this time in a new location. With our usual Nottingham venue no longer available\, this year we’ll be playing in the Oldham regional heats. The times shown are for our performance\, but feel free to arrive earlier as other bands will be performing throughout the day\, from 09:30.
URL:http://www.silverspectrum.org/event/ncbf-regional-2023/
LOCATION:Crompton House Academy\, Rochdale Rd\, Shaw\, Oldham\, Oldham\, OL2 7HS\, United Kingdom
CATEGORIES:Concerts
ATTACH;FMTTYPE=image/png:http://www.silverspectrum.org/wp-content/uploads/2018/06/NCBF-e1528228549352.png
END:VEVENT
BEGIN:VEVENT
DTSTART;TZID=Europe/London:20231202T130000
DTEND;TZID=Europe/London:20231202T140000
DTSTAMP:20260419T173553
CREATED:20230718T122449Z
LAST-MODIFIED:20231115T144715Z
UID:945-1701522000-1701525600@www.silverspectrum.org
SUMMARY:Kelham Island Christmas Market
DESCRIPTION:Our traditional first Christmas event is Kelham Island Victorian Christmas Market. Bands are free with admission to the market.
URL:http://www.silverspectrum.org/event/kelham-island-christmas-market/
LOCATION:Kelham Island Museum\, Alma Street\, Sheffield\, S3 8SA\, United Kingdom
CATEGORIES:Concerts
ATTACH;FMTTYPE=image/jpeg:http://www.silverspectrum.org/wp-content/uploads/2022/05/Kelham-Island-Xmas-2019.jpg
ORGANIZER;CN="Sheffield Museums":MAILTO:info@sheffieldmuseums.org.uk
END:VEVENT
BEGIN:VEVENT
DTSTART;TZID=Europe/London:20231210T170000
DTEND;TZID=Europe/London:20231210T200000
DTSTAMP:20260419T173553
CREATED:20230115T111340Z
LAST-MODIFIED:20231202T224311Z
UID:913-1702227600-1702238400@www.silverspectrum.org
SUMMARY:An evening of Christmas Crackers
DESCRIPTION:Silver Spectrum Wind Band and Northern Collective Big Band present… \n\n\n\nAn evening of Christmas Crackers \n\n\n\nOur second Christmas concert with our friends at Northern Collective Big Band. It’s a casual\, cabaret style setting with tables\, a bar and space to dance\, so join us to for some festive music to fill a dark winter evening.
URL:http://www.silverspectrum.org/event/christmas-concert-with-northern-collective/
LOCATION:Crookes Social Club\, Mulehouse Road\, Sheffield\, S10 1TD
CATEGORIES:Concerts
ATTACH;FMTTYPE=image/webp:http://www.silverspectrum.org/wp-content/uploads/2022/09/Crookes-Club.webp
END:VEVENT
BEGIN:VEVENT
DTSTART;TZID=Europe/London:20240316T080000
DTEND;TZID=Europe/London:20240316T170000
DTSTAMP:20260419T173553
CREATED:20230718T123419Z
LAST-MODIFIED:20240109T113833Z
UID:948-1710576000-1710608400@www.silverspectrum.org
SUMMARY:National Concert Band Festival (Finals - TBC)
DESCRIPTION:If we succeed in the regional heats in November\, we hope to return to the finals of the NCBF for the third year running; this time in a new venue in Warwick. Prices and out performance time will be available closer to the event.
URL:http://www.silverspectrum.org/event/ncbf-finals-2024/
CATEGORIES:Concerts
ATTACH;FMTTYPE=image/jpeg:http://www.silverspectrum.org/wp-content/uploads/2023/06/NCBF-homepage-banner-2023.jpg
END:VEVENT
BEGIN:VEVENT
DTSTART;TZID=Europe/London:20240629T180000
DTEND;TZID=Europe/London:20240629T200000
DTSTAMP:20260419T173553
CREATED:20230627T131535Z
LAST-MODIFIED:20231115T162634Z
UID:952-1719684000-1719691200@www.silverspectrum.org
SUMMARY:Summer Showcase
DESCRIPTION:A summer concert at Selby Abbey. Details TBC.
URL:http://www.silverspectrum.org/event/summer-showcase-2024/
LOCATION:Selby Abbey\, The Crescent\, Selby\, YO8 4PU\, United Kingdom
CATEGORIES:Concerts
ATTACH;FMTTYPE=image/jpeg:http://www.silverspectrum.org/wp-content/uploads/2023/06/Selby_Abbey_Photo_Gallery_7.jpg
END:VEVENT
BEGIN:VEVENT
DTSTART;TZID=Europe/London:20240714T140000
DTEND;TZID=Europe/London:20240714T160000
DTSTAMP:20260419T173553
CREATED:20240703T191151Z
LAST-MODIFIED:20240703T191153Z
UID:1036-1720965600-1720972800@www.silverspectrum.org
SUMMARY:Weston Park Bandstand
DESCRIPTION:Light-hearted summer programme for a (hopefully) sunny afternoon in the park!
URL:http://www.silverspectrum.org/event/weston-park-bandstand-2/
LOCATION:Weston Park Bandstand\, Weston Park\, Sheffield\, S10 2TP\, United Kingdom
CATEGORIES:Concerts
END:VEVENT
BEGIN:VEVENT
DTSTART;TZID=Europe/London:20240720T193000
DTEND;TZID=Europe/London:20240720T213000
DTSTAMP:20260419T173553
CREATED:20230718T124615Z
LAST-MODIFIED:20240703T192104Z
UID:986-1721503800-1721511000@www.silverspectrum.org
SUMMARY:Concert with The Waldershelf Singers
DESCRIPTION:We are returning for a second visit to Stocksbridge with our friends from The Waldershelf Singers. \n\n\n\nWe are celebrating the 200th anniversary of the RNLI – expect some sea-related music!
URL:http://www.silverspectrum.org/event/concert-with-the-waldershelf-singers-2024/
LOCATION:The Venue\, 650 Manchester Road\, Stocksbridge\, S36 1DY
CATEGORIES:Concerts
ORGANIZER;CN="Waldershelf Singers":MAILTO:waldershelfsingers@gmail.com
END:VEVENT
BEGIN:VEVENT
DTSTART;TZID=Europe/London:20241209T193000
DTEND;TZID=Europe/London:20241209T213000
DTSTAMP:20260419T173553
CREATED:20241121T131433Z
LAST-MODIFIED:20241121T131720Z
UID:1076-1733772600-1733779800@www.silverspectrum.org
SUMMARY:It's Beginning to Look Like Christmas!
DESCRIPTION:An evening of Christmas classics\, and a little light relief from the relentless saturation of Christmas music!FREE ENTRY – donations are welcome\, and will be split between the band and the church for their parish charity\, the St Justin’s Society
URL:http://www.silverspectrum.org/event/1076/
LOCATION:St Vincent’s Catholic Church\, 40 Pickmere Road\, Sheffield\, S10 1GY
END:VEVENT
BEGIN:VEVENT
DTSTART;TZID=Europe/London:20250315T170000
DTEND;TZID=Europe/London:20250315T190000
DTSTAMP:20260419T173553
CREATED:20250227T171545Z
LAST-MODIFIED:20250227T171548Z
UID:1096-1742058000-1742065200@www.silverspectrum.org
SUMMARY:The Musical Kaleidoscope
DESCRIPTION:Experience a kaleidoscope of musical discovery this Spring time! Sheffield Youth Orchestra and Silver Spectrum Wind Band join forces for a captivating concert featuring a colourful tapestry of classical and wind band music\, perfect for all ages. \n\n\n\nSheffield Youth Orchestra and Silver Spectrum Wind Band will perform a spectrum of repertoire from their own groups before joining together to perform exciting works from Bizet’s L’Arlésienne Suites and Vaughan Williams English Folk Song Suite.
URL:http://www.silverspectrum.org/event/the-musical-kaleidoscope/
LOCATION:St Mark’s Church\, Broomhill\, S10 2SE
END:VEVENT
BEGIN:VEVENT
DTSTART;TZID=Europe/London:20250322T160000
DTEND;TZID=Europe/London:20250322T163000
DTSTAMP:20260419T173553
CREATED:20240703T192457Z
LAST-MODIFIED:20240703T192622Z
UID:1042-1742659200-1742661000@www.silverspectrum.org
SUMMARY:Pop-up performance in the Winter Gardens
DESCRIPTION:Pop-up performance in the Winter Gardens as part of the Classical Sheffield Weekend
URL:http://www.silverspectrum.org/event/1042/
LOCATION:Winter Gardens\, Sheffield Winter Garden\, 90 Surrey St\, Sheffield\, S1 2LH
CATEGORIES:Concerts,Public
END:VEVENT
BEGIN:VEVENT
DTSTART;TZID=Europe/London:20251207T110000
DTEND;TZID=Europe/London:20251207T120000
DTSTAMP:20260419T173553
CREATED:20260304T220110Z
LAST-MODIFIED:20260304T220113Z
UID:1179-1765105200-1765108800@www.silverspectrum.org
SUMMARY:Kelham Island Christmas Market
DESCRIPTION:
URL:http://www.silverspectrum.org/event/kelham-island-christmas-market-2/
LOCATION:Kelham Island Museum\, Alma Street\, Sheffield\, S3 8SA\, United Kingdom
END:VEVENT
BEGIN:VEVENT
DTSTART;TZID=Europe/London:20260418T190000
DTEND;TZID=Europe/London:20260418T210000
DTSTAMP:20260419T173553
CREATED:20260304T211054Z
LAST-MODIFIED:20260304T213722Z
UID:1167-1776538800-1776546000@www.silverspectrum.org
SUMMARY:Spring Concert
DESCRIPTION:
URL:http://www.silverspectrum.org/event/spring-concert/
LOCATION:St Marie’s Cathedral\, Norfolk Row\, Sheffield\, S1 2JB
END:VEVENT
BEGIN:VEVENT
DTSTART;TZID=Europe/London:20260627T190000
DTEND;TZID=Europe/London:20260627T213000
DTSTAMP:20260419T173553
CREATED:20260304T230700Z
LAST-MODIFIED:20260304T230903Z
UID:1184-1782586800-1782595800@www.silverspectrum.org
SUMMARY:Summer Concert
DESCRIPTION:
URL:http://www.silverspectrum.org/event/1184/
LOCATION:St Mary’s Church\, Bolsterstone\, Heads Ln\, Bolsterstone\, Sheffield\, S36 3ZN
END:VEVENT
BEGIN:VEVENT
DTSTART;TZID=Europe/London:20260719T140000
DTEND;TZID=Europe/London:20260719T160000
DTSTAMP:20260419T173553
CREATED:20260304T213544Z
LAST-MODIFIED:20260304T220830Z
UID:1176-1784469600-1784476800@www.silverspectrum.org
SUMMARY:Weston Park Bandstand
DESCRIPTION:
URL:http://www.silverspectrum.org/event/weston-park-bandstand-3/
LOCATION:Weston Park Bandstand\, Weston Park\, Sheffield\, S10 2TP\, United Kingdom
END:VEVENT
END:VCALENDAR